BEGIN:VCALENDAR
VERSION:2.0
PRODID:-//https://www.sandler.ee///NONSGML kigkonsult.se iCalcreator 2.10.15//
METHOD:PUBLISH
BEGIN:VEVENT
UID:20260424T191151EEST-60305RDelO@https://www.sandler.ee/
DTSTAMP:20260424T161151Z
DESCRIPTION:В аренду мастерской входит возможность использовать всё имеющее
 ся в наличии оборудование и приспособления. Стоимость рассчитывается по ча
 сам.&nbsp\; https://www.sandler.ee/ru/meropriyatiya-kursy/event/18-arenda-
 shvejnoj-masterskoj
DTSTART:20250901T073000Z
DTEND:20251231T123000Z
LOCATION:Tuleviku 6a Narva 20307 (Tuleviku 6a Narva 20307)
SUMMARY:Аренда швейной мастерской
URL:https://www.sandler.ee/ru/meropriyatiya-kursy/event/18-arenda-shvejnoj-
 masterskoj
END:VEVENT
BEGIN:VEVENT
UID:20260424T191151EEST-6032jeTD2A@https://www.sandler.ee/
DTSTAMP:20260424T161151Z
DESCRIPTION:Приглашаем на мастер-класс по пошиву простой сумки-шопера! 🧵👜Хо
 тите своими руками сшить удобную эко-сумку и узнать основы шитья? Приходит
 е — всё покажем и поможем.\n📅 Дата: 4 апреля⏰ Начало: 12:00🕒 Длительность:
  около 4 часов💚 Участие: бесплатно (в рамках проекта TAASKASUTUS MOODSAKS)
 \nНа мастер-классе вы:✅ научитесь базовым приёмам шитья✅ сошьёте простую с
 умку-шопер✅ приятно и полезно проведёте время https://www.sandler.ee/ru/me
 ropriyatiya-kursy/event/65-poshiv-prostoj-sumki-shoper
DTSTART:20260404T090000Z
DTEND:20260404T130000Z
LOCATION:Tuleviku 6a Narva 20307 (Tuleviku 6a Narva 20307)
SUMMARY:Пошив простой сумки-шопер
URL:https://www.sandler.ee/ru/meropriyatiya-kursy/event/65-poshiv-prostoj-s
 umki-shoper
END:VEVENT
END:VCALENDAR
