BEGIN:VCALENDAR
VERSION:2.0
PRODID:-//https://www.sandler.ee///NONSGML kigkonsult.se iCalcreator 2.10.15//
METHOD:PUBLISH
BEGIN:VEVENT
UID:20260422T114501EEST-9056XsVw87@https://www.sandler.ee/
DTSTAMP:20260422T084501Z
DESCRIPTION:Приглашаем на мастер-класс по пошиву простой сумки-шопера! 🧵👜Хо
 тите своими руками сшить удобную эко-сумку и узнать основы шитья? Приходит
 е — всё покажем и поможем.\n📅 Дата: 14 марта⏰ Начало: 11:00🕒 Длительность:
  около 2 часов💚 Участие: бесплатно (в рамках проекта TAASKASUTUS MOODSAKS)
 \nНа мастер-классе вы:✅ научитесь базовым приёмам шитья✅ сошьёте простую с
 умку-шопер✅ приятно и полезно проведёте время https://www.sandler.ee/et/ue
 ritused-kursused/event/64-posiv-prostoj-sumki-soper
DTSTART:20260314T090000Z
DTEND:20260314T110000Z
LOCATION:Tuleviku 6a Narva 20307 (Tuleviku 6a Narva 20307)
SUMMARY:Пошив простой сумки-шопер
URL:https://www.sandler.ee/et/ueritused-kursused/event/64-posiv-prostoj-sum
 ki-soper
END:VEVENT
END:VCALENDAR
