BEGIN:VCALENDAR
VERSION:2.0
PRODID:-//https://www.sandler.ee///NONSGML kigkonsult.se iCalcreator 2.10.15//
METHOD:PUBLISH
BEGIN:VEVENT
UID:20260425T135738EEST-5324dvXXMn@https://www.sandler.ee/
DTSTAMP:20260425T105738Z
DESCRIPTION:Курс по основам предпринимательства подготовлен на основании го
 сударственного отраслевого стандарта 'Предприниматель малого бизнеса\, уро
 вень 5'. Обучение проходит в удобной электронной среде с преподавателем. О
 бъём курса 150 академических часов (120 аудиторных + практических и 30 час
 ов самостоятельной работы).&nbsp\;\nВам не нужно никуда ходить. Однако\, м
 ы ожидаем от вас наличие компьютера с интернет соединением\, вэб-камеры и 
 микрофона. &nbsp\;\nВ ходе обучения мы с вами обсудим следующие вопросы:\n
 &nbsp\;- Определения предпринимательства\, предприятия и предпринимателя. 
 Развитие бизнеса.\n- Формы бизнеса. Отличие коммерческого и некоммерческог
 о предприятий. Устав предприятия. - - Открытие бизнеса: открытие бизнеса\,
  финансирование\, подбор персонала\, обеспечение материальными ресурсами. 
 Прекращение деятельности компании.\n- Операционная среда компании. Деятель
 ность\, местонахождение\, факторы риска. Оценка конкурентоспособности.\n-&
 nbsp\;Рынок и продукты. Целевой рынок и клиенты. Продукты\, услуги и товар
 ы. Рыночный спрос и предложение. Маркетинг и реклама.\n-&nbsp\;Доходы и ра
 сходы компании. Доходы\, расходы компании и их классификация\; расчет прод
 ажной цены и себестоимости продукции.\nОчень важной темой будет необходимо
 сть написания бизнес-плана.\n- Характер и значение бизнес-плана. Требовани
 я к бизнес-плану\; бизнес-идея и ее воплощение\; миссия\, видение и цели к
 омпании\; варианты оформления бизнес-плана.\n- Подготовка бизнес-плана\, с
 крининг бизнес-идей\, подготовка текстовой части бизнес-плана на основе вы
 бранной бизнес-идеи\, планирование затрат и ресурсов бизнес-плана\, подгот
 овка финансовой части бизнес-плана\, бизнес-план приложения и их подготовк
 а\, оценка рентабельности бизнес-плана. Возможности финансирования бизнеса
 .\n- Стартовый капитал\, выделенный через Кассу по безработице\, стартовую
  помощь EAS\, банковский кредит и т. д.\n&nbsp\;\nМы выполним практическую
  работу в учебной среде по следующим темам:\nПостановка бизнес-идеи\, оцен
 ка и анализ перспектив. Проведение анализа конкуренции малого бизнеса. Мар
 кетинг и маркетинговый план в компании. Цены. Составление бизнес-планов пр
 огнозов продаж. Прогноз движения денежных средств по бизнес-плану. Отчет о
  прибыли и убытках бизнес-плана и прогноз баланса.\nПосле завершения обуче
 ния у вас будет готовый бизнес-план.\nСтоимость курса 1700 евро.\nУчебный 
 центр Sandler Koolituskeskus является партнёром по карте обучения Эстонско
 й Кассы по безработице:http://www.tootukassa.ee/ru/content/tchto-takoie-ka
 rta-obutchieniia\nSandler Koolituskeskus MTÜ прошел оценку Эстонского Аген
 тства по оценке качества образования в группе учебной программы 'управлени
 е и администрирование' в 2023 г.\n&nbsp\; https://www.sandler.ee/et/ueritu
 sed-kursused/event/61-osnovy-predprinimatelstva-biznes-plan-14-10-2024-20-
 12-2024
DTSTART:20241014T120000Z
DTEND:20241220T160000Z
LOCATION:MS Teams / Tuleviku 6a (Tuleviku 6a)
SUMMARY:Основы предпринимательства + бизнес-план. 14/10/2024 - 20/12/2024
URL:https://www.sandler.ee/et/ueritused-kursused/event/61-osnovy-predprinim
 atelstva-biznes-plan-14-10-2024-20-12-2024
END:VEVENT
END:VCALENDAR
